BEGIN:VCALENDAR
VERSION:2.0
PRODID:-//TYPO3/NONSGML Calendarize//EN
BEGIN:VEVENT
UID:calendarize-kanu-klassiker-treff
DTSTAMP:20260422T183359Z
DTSTART:20260425T090000Z
DTEND:20260425T140000Z
SUMMARY:Kanu-Klassiker-Treff
DESCRIPTION:Hallo nochmal zusammen\,\nzur Info - am Samstag ist das Kanu-K
 lassiker-Treffen am Schiedersee.\nHier der Linkhttps://kanu-club-schieder.
 de/kanu-klassiker-treffen-am-25-04-2026/\nWir waren schonmal dort und habe
 n glatt nen Preis für das älteste und kürzeste Boot bekommen. Nen Polye
 ster-Topo - die alten Säcke\, wie auch ich\, aus dem WSH werden ihn noch 
 kennen. Nostalgie pur und ich konnte ihn sogar noch paddeln.\nSportliche G
 rüßeMichaela Bast
X-ALT-DESC;FMTTYPE=text/html:<p>Hallo nochmal zusammen\,</p>\n<p>zur Info 
 - am Samstag ist das Kanu-Klassiker-Treffen am Schiedersee.</p>\n<p>Hier d
 er Link<br /><a href="https://kanu-club-schieder.de/kanu-klassiker-treffen
 -am-25-04-2026/">https://kanu-club-schieder.de/kanu-klassiker-treffen-am-2
 5-04-2026/</a></p>\n<p>Wir waren schonmal dort und haben glatt nen Preis f
 ür das älteste und kürzeste Boot bekommen. Nen Polyester-Topo - die alt
 en Säcke\, wie auch ich\, aus dem WSH werden ihn noch kennen. Nostalgie p
 ur und ich konnte ihn sogar noch paddeln.</p>\n<p>Sportliche Grüße<br />
 Michaela Bast</p>
LOCATION:Schiedersee
END:VEVENT
END:VCALENDAR
